BEGIN:VCALENDAR
VERSION:2.0
PRODID:-//Grand Café de B - ECPv6.5.1.5//NONSGML v1.0//EN
CALSCALE:GREGORIAN
METHOD:PUBLISH
X-WR-CALNAME:Grand Café de B
X-ORIGINAL-URL:https://grandcafedeb.nl
X-WR-CALDESC:Evenementen voor Grand Café de B
REFRESH-INTERVAL;VALUE=DURATION:PT1H
X-Robots-Tag:noindex
X-PUBLISHED-TTL:PT1H
BEGIN:VTIMEZONE
TZID:Europe/Amsterdam
BEGIN:DAYLIGHT
TZOFFSETFROM:+0100
TZOFFSETTO:+0200
TZNAME:CEST
DTSTART:20260329T010000
END:DAYLIGHT
BEGIN:STANDARD
TZOFFSETFROM:+0200
TZOFFSETTO:+0100
TZNAME:CET
DTSTART:20261025T010000
END:STANDARD
END:VTIMEZONE
BEGIN:VEVENT
DTSTART;TZID=Europe/Amsterdam:20260214T120000
DTEND;TZID=Europe/Amsterdam:20260214T190000
DTSTAMP:20260420T102530
CREATED:20251106T105454Z
LAST-MODIFIED:20251106T105454Z
UID:3371-1771070400-1771095600@grandcafedeb.nl
SUMMARY:Optocht kijken
DESCRIPTION:wij sluiten om 19.00 uur
URL:https://grandcafedeb.nl/event/optocht-kijken/
END:VEVENT
END:VCALENDAR